<?xml version="1.0" encoding="UTF-8" standalone="no"?>
<metadata xml:lang="en">
<Esri>
<CreaDate>20231105</CreaDate>
<CreaTime>15284800</CreaTime>
<ArcGISFormat>1.0</ArcGISFormat>
<SyncOnce>FALSE</SyncOnce>
<DataProperties>
<itemProps>
<itemName Sync="FALSE">cw_precipann</itemName>
<imsContentType Sync="TRUE">002</imsContentType>
<nativeExtBox>
<westBL Sync="TRUE">140.999028</westBL>
<eastBL Sync="TRUE">153.639028</eastBL>
<southBL Sync="TRUE">-37.505139</southBL>
<northBL Sync="TRUE">-28.156806</northBL>
<exTypeCode Sync="TRUE">1</exTypeCode>
</nativeExtBox>
</itemProps>
<coordRef>
<type Sync="TRUE">Geographic</type>
<geogcsn Sync="TRUE">GCS_GDA_1994</geogcsn>
<csUnits Sync="TRUE">Angular Unit: Degree (0.017453)</csUnits>
<peXml Sync="TRUE">&lt;GeographicCoordinateSystem xsi:type='typens:GeographicCoordinateSystem' xmlns:xsi='http://www.w3.org/2001/XMLSchema-instance' xmlns:xs='http://www.w3.org/2001/XMLSchema' xmlns:typens='http://www.esri.com/schemas/ArcGIS/3.0.0'&gt;&lt;WKT&gt;GEOGCS[&amp;quot;GCS_GDA_1994&amp;quot;,DATUM[&amp;quot;D_GDA_1994&amp;quot;,SPHEROID[&amp;quot;GRS_1980&amp;quot;,6378137.0,298.257222101]],PRIMEM[&amp;quot;Greenwich&amp;quot;,0.0],UNIT[&amp;quot;Degree&amp;quot;,0.0174532925199433],AUTHORITY[&amp;quot;EPSG&amp;quot;,4283]]&lt;/WKT&gt;&lt;XOrigin&gt;-400&lt;/XOrigin&gt;&lt;YOrigin&gt;-400&lt;/YOrigin&gt;&lt;XYScale&gt;11258999068426.238&lt;/XYScale&gt;&lt;ZOrigin&gt;-100000&lt;/ZOrigin&gt;&lt;ZScale&gt;10000&lt;/ZScale&gt;&lt;MOrigin&gt;-100000&lt;/MOrigin&gt;&lt;MScale&gt;10000&lt;/MScale&gt;&lt;XYTolerance&gt;8.983152841195215e-09&lt;/XYTolerance&gt;&lt;ZTolerance&gt;0.00020000000000000001&lt;/ZTolerance&gt;&lt;MTolerance&gt;0.00020000000000000001&lt;/MTolerance&gt;&lt;HighPrecision&gt;true&lt;/HighPrecision&gt;&lt;LeftLongitude&gt;-180&lt;/LeftLongitude&gt;&lt;WKID&gt;4283&lt;/WKID&gt;&lt;LatestWKID&gt;4283&lt;/LatestWKID&gt;&lt;/GeographicCoordinateSystem&gt;</peXml>
</coordRef>
</DataProperties>
<SyncDate>20231105</SyncDate>
<SyncTime>15284800</SyncTime>
<ModDate>20231105</ModDate>
<ModTime>15284800</ModTime>
</Esri>
<dataIdInfo>
<envirDesc Sync="FALSE">Esri ArcGIS 13.0.3.36057</envirDesc>
<dataLang>
<languageCode Sync="TRUE" value="eng">
</languageCode>
<countryCode Sync="TRUE" value="AUS">
</countryCode>
</dataLang>
<idCitation>
<resTitle Sync="FALSE">Grid.SDE.cw_precipann</resTitle>
<presForm>
<PresFormCd Sync="TRUE" value="011">
</PresFormCd>
</presForm>
</idCitation>
<spatRpType>
<SpatRepTypCd Sync="TRUE" value="002">
</SpatRepTypCd>
</spatRpType>
<dataExt>
<geoEle>
<GeoBndBox esriExtentType="search">
<exTypeCode Sync="TRUE">1</exTypeCode>
<westBL Sync="TRUE">140.999028</westBL>
<eastBL Sync="TRUE">153.639028</eastBL>
<northBL Sync="TRUE">-28.156806</northBL>
<southBL Sync="TRUE">-37.505139</southBL>
</GeoBndBox>
</geoEle>
</dataExt>
<idAbs/>
<idPurp/>
<idCredit/>
<resConst>
<Consts>
<useLimit/>
</Consts>
</resConst>
</dataIdInfo>
<mdLang>
<languageCode Sync="TRUE" value="eng">
</languageCode>
<countryCode Sync="TRUE" value="AUS">
</countryCode>
</mdLang>
<distInfo>
<distFormat>
<formatName Sync="TRUE">Enterprise Geodatabase Raster Dataset</formatName>
</distFormat>
</distInfo>
<mdHrLv>
<ScopeCd Sync="TRUE" value="005">
</ScopeCd>
</mdHrLv>
<mdHrLvName Sync="TRUE">dataset</mdHrLvName>
<refSysInfo>
<RefSystem>
<refSysID>
<identCode Sync="TRUE" code="4283">
</identCode>
<idCodeSpace Sync="TRUE">EPSG</idCodeSpace>
<idVersion Sync="TRUE">6.5(3.0.1)</idVersion>
</refSysID>
</RefSystem>
</refSysInfo>
<spdoinfo>
<rastinfo>
<rasttype Sync="TRUE">Pixel</rasttype>
<rowcount Sync="TRUE">33654</rowcount>
<colcount Sync="TRUE">45504</colcount>
<rastxsz Sync="TRUE">0.000278</rastxsz>
<rastysz Sync="TRUE">0.000278</rastysz>
<rastbpp Sync="TRUE">32</rastbpp>
<vrtcount Sync="TRUE">1</vrtcount>
<rastorig Sync="TRUE">Upper Left</rastorig>
<rastcmap Sync="TRUE">FALSE</rastcmap>
<rastcomp Sync="TRUE">LZ77</rastcomp>
<rastband Sync="TRUE">1</rastband>
<rastdtyp Sync="TRUE">pixel codes</rastdtyp>
<rastifor Sync="TRUE">SDR</rastifor>
<rastplyr Sync="TRUE">TRUE</rastplyr>
</rastinfo>
</spdoinfo>
<spref>
<horizsys>
<planar>
<planci>
<plance Sync="TRUE">row and column</plance>
<coordrep>
<absres Sync="TRUE">0.000278</absres>
<ordres Sync="TRUE">0.000278</ordres>
</coordrep>
</planci>
</planar>
</horizsys>
</spref>
<mdDateSt Sync="TRUE">20231105</mdDateSt>
</metadata>
